BEGIN:VCALENDAR
VERSION:2.0
PRODID:icalendar-ruby
CALSCALE:GREGORIAN
METHOD:PUBLISH
BEGIN:VEVENT
DTSTAMP:20260422T133142Z
UID:254-752387@missiocommunity.org
DTSTART:20260508T163000Z
DTEND:20260508T183000Z
CLASS:PUBLIC
CREATED:20260421T135129
DESCRIPTION:Prayer &amp\; Pastries \nJoin us for a meaningful morning of en
 couragement\, connection\, and prayer.\nOn Friday\, May 8 from 9:30–11:3
 0 AM in the Community Hall\, we’ll gather for a relaxed and welcoming ti
 me to slow down\, share life\, and lift one another up in prayer. Whether 
 you’re coming with something on your heart or simply looking to connect\
 , this is a space for you.\nEnjoy some pastries\, good conversation\, and 
 the opportunity to be encouraged in community.\nWe’d love to see you the
 re!\nQuestions?  Email Vikki Rubens
LAST-MODIFIED:20260421T135129
LOCATION:Community Hall
SUMMARY:Missio Women's Prayer & Pastries
URL;VALUE=URI:https://missiocommunity.org/events/missio-womens-prayer-pastr
 ies/2026-05-08
ATTACH;FILENAME=Prayer & Pastries.png;FMTTYPE=image/png:https://dq5pwpg1q8r
 u0.cloudfront.net/2026/04/21/20/50/40/6d619502-0624-4ad6-b22d-504150ea9019
 /Prayer%20&%20Pastries.png
END:VEVENT
END:VCALENDAR
