BEGIN:VCALENDAR
VERSION:2.0
PRODID:icalendar-ruby
CALSCALE:GREGORIAN
METHOD:PUBLISH
BEGIN:VEVENT
DTSTAMP:20260422T133341Z
UID:253-752388@missiocommunity.org
DTSTART:20260530T013000Z
DTEND:20260531T190000Z
CLASS:PUBLIC
CREATED:20260421T135348
DESCRIPTION:This invitation is for all the men.  If you’ve been feeling 
 the constant pressure to perform—in work\, at home\, or in life—this r
 etreat is a chance to step away and breathe.  Join us for a weekend to sl
 ow down\, reconnect with God\, build deeper friendships\, and discover a l
 ife rooted in freedom\, not performance.  The theme this year is “Freed
 om from Performance”.\nCome for the full weekend or just a day—whateve
 r fits your season.  Registration is now open!  \nQuestions? Email Tim B
 oettcher
LAST-MODIFIED:20260421T135348
LOCATION:
SUMMARY:Missio Men's Retreat
URL;VALUE=URI:https://missiocommunity.org/events/missio-mens-retreat--253/2
 026-05-29
ATTACH;FILENAME=2026 Missio Mens Retreat (WEB).png;FMTTYPE=image/png:https:
 //dq5pwpg1q8ru0.cloudfront.net/2026/04/21/20/53/48/3cb088bd-46df-4b49-a1d2
 -2ec00785e303/2026%20Missio%20Mens%20Retreat%20(WEB).png
END:VEVENT
END:VCALENDAR
