BEGIN:VCALENDAR
VERSION:2.0
PRODID:icalendar-ruby
CALSCALE:GREGORIAN
METHOD:PUBLISH
BEGIN:VEVENT
DTSTAMP:20260422T132815Z
UID:255-752450@missiocommunity.org
DTSTART:20260517T183000Z
DTEND:20260517T203000Z
CLASS:PUBLIC
CREATED:20260421T140207
DESCRIPTION:Sunday\, May 17 from 11:30 AM–1:30 PM in the Conference Room\
 nAre you interested in learning more about becoming a Family Covenant Memb
 er at Missio? We invite you to join us for our upcoming Family Covenant Cl
 ass.  Being part of a church community is more than simply attending—i
 t’s about belonging\, growing together in faith\, and committing to walk
  alongside one another in encouragement\, support\, and mission. This clas
 s is an opportunity to learn more about Missio’s vision and values\, and
  what it means to step into that kind of intentional community as a Family
  Covenant Member.  If you’re ready to take that next step\, we’d love
  for you to join us. We look forward to sharing this time with you!\nLunch
  and childcare will be provided.  \nTo help us prepare\, please RSVP by e
 mailing the Office Administrator.  
LAST-MODIFIED:20260421T140207
LOCATION:Missio Conference Room
SUMMARY:Family Covenant Class
URL;VALUE=URI:https://missiocommunity.org/events/family-covenant-class--255
 /2026-05-17
ATTACH;FILENAME=2026 Family Covenant Class (WEB).png;FMTTYPE=image/png:http
 s://dq5pwpg1q8ru0.cloudfront.net/2026/04/21/21/00/37/d9333bc5-a152-4075-8d
 de-64fc1aa37034/2026%20Family%20Covenant%20Class%20(WEB).png
END:VEVENT
END:VCALENDAR
